BEGIN:VCALENDAR
VERSION:2.0
PRODID:spatie/icalendar-generator
NAME:Intro Motto ZUKUNFT HANDWERK 2025 \"Stolz\, im Handwerk zu gestalten.\
 " [ZUKUNFT HANDWERK]
X-WR-CALNAME:Intro Motto ZUKUNFT HANDWERK 2025 \"Stolz\, im Handwerk zu ges
 talten.\" [ZUKUNFT HANDWERK]
BEGIN:VTIMEZONE
TZID:Europe/Zurich
BEGIN:STANDARD
DTSTART:20241027T030000
TZOFFSETFROM:+0200
TZOFFSETTO:+0100
END:STANDARD
BEGIN:DAYLIGHT
DTSTART:20250330T020000
TZOFFSETFROM:+0100
TZOFFSETTO:+0200
END:DAYLIGHT
END:VTIMEZONE
BEGIN:VTIMEZONE
TZID:UTC
BEGIN:STANDARD
DTSTART:20250724T134040
TZOFFSETFROM:+0000
TZOFFSETTO:+0000
END:STANDARD
END:VTIMEZONE
BEGIN:VEVENT
UID:69e62cd82e004
DTSTAMP:20260420T134040Z
DTSTART;TZID=Europe/Zurich:20250312T100000
DTEND;TZID=Europe/Zurich:20250312T101000
SUMMARY:Intro Motto ZUKUNFT HANDWERK 2025 \"Stolz\, im Handwerk zu gestalte
 n.\" [ZUKUNFT HANDWERK]
DESCRIPTION:https://connect.zukunfthandwerk.com/de/e/intro-motto-zukunft-ha
 ndwerk-2025-stolz-im-handwerk-zu-gestalten.64129\n\nAuftakt & Begrüßung:
  Stolz\, im Handwerk zu gestalten.
END:VEVENT
END:VCALENDAR