BEGIN:VCALENDAR
VERSION:2.0
PRODID:spatie/icalendar-generator
NAME:Begrüßung [ZUKUNFT HANDWERK]
X-WR-CALNAME:Begrüßung [ZUKUNFT HANDWERK]
BEGIN:VTIMEZONE
TZID:Europe/Zurich
BEGIN:STANDARD
DTSTART:20241027T030000
TZOFFSETFROM:+0200
TZOFFSETTO:+0100
END:STANDARD
BEGIN:DAYLIGHT
DTSTART:20250330T020000
TZOFFSETFROM:+0100
TZOFFSETTO:+0200
END:DAYLIGHT
END:VTIMEZONE
BEGIN:VTIMEZONE
TZID:UTC
BEGIN:STANDARD
DTSTART:20250724T114926
TZOFFSETFROM:+0000
TZOFFSETTO:+0000
END:STANDARD
END:VTIMEZONE
BEGIN:VEVENT
UID:69e612c65c246
DTSTAMP:20260420T114926Z
DTSTART;TZID=Europe/Zurich:20250312T101000
DTEND;TZID=Europe/Zurich:20250312T102000
SUMMARY:Begrüßung [ZUKUNFT HANDWERK]
DESCRIPTION:https://connect.zukunfthandwerk.com/de/e/begruessung.64130\n\nB
 egrüßung durch Franz Xaver Peteranderl\, Präsident Handwerkskammer Mün
 chen und Oberbayern\, Aufsichtsratsvorsitzender der GHM Gesellschaft für 
 Handwerksmessen mbH
END:VEVENT
END:VCALENDAR