BEGIN:VCALENDAR
VERSION:2.0
PRODID:spatie/icalendar-generator
NAME:Grußworte Dr. Markus Söder [ZUKUNFT HANDWERK]
X-WR-CALNAME:Grußworte Dr. Markus Söder [ZUKUNFT HANDWERK]
BEGIN:VTIMEZONE
TZID:Europe/Zurich
BEGIN:STANDARD
DTSTART:20241027T030000
TZOFFSETFROM:+0200
TZOFFSETTO:+0100
END:STANDARD
BEGIN:DAYLIGHT
DTSTART:20250330T020000
TZOFFSETFROM:+0100
TZOFFSETTO:+0200
END:DAYLIGHT
END:VTIMEZONE
BEGIN:VTIMEZONE
TZID:UTC
BEGIN:STANDARD
DTSTART:20250724T132338
TZOFFSETFROM:+0000
TZOFFSETTO:+0000
END:STANDARD
END:VTIMEZONE
BEGIN:VEVENT
UID:69e628da25033
DTSTAMP:20260420T132338Z
DTSTART;TZID=Europe/Zurich:20250312T102000
DTEND;TZID=Europe/Zurich:20250312T103000
SUMMARY:Grußworte Dr. Markus Söder [ZUKUNFT HANDWERK]
DESCRIPTION:https://connect.zukunfthandwerk.com/de/e/grussworte-dr-markus-s
 oeder.64131\n\nBegrüßung zu ZUKUNFT HANDWERK und zur Internationale Hand
 werksmesse 2025 durch Dr. Markus Söder\, Ministerpräsident des Freistaat
 es Bayern
END:VEVENT
END:VCALENDAR