BEGIN:VCALENDAR
VERSION:2.0
PRODID:spatie/icalendar-generator
NAME:Begrüßung Dr. Habeck [ZUKUNFT HANDWERK]
X-WR-CALNAME:Begrüßung Dr. Habeck [ZUKUNFT HANDWERK]
BEGIN:VTIMEZONE
TZID:Europe/Zurich
BEGIN:STANDARD
DTSTART:20241027T030000
TZOFFSETFROM:+0200
TZOFFSETTO:+0100
END:STANDARD
BEGIN:DAYLIGHT
DTSTART:20250330T020000
TZOFFSETFROM:+0100
TZOFFSETTO:+0200
END:DAYLIGHT
END:VTIMEZONE
BEGIN:VTIMEZONE
TZID:UTC
BEGIN:STANDARD
DTSTART:20250724T132333
TZOFFSETFROM:+0000
TZOFFSETTO:+0000
END:STANDARD
END:VTIMEZONE
BEGIN:VEVENT
UID:69e628d526d12
DTSTAMP:20260420T132333Z
DTSTART;TZID=Europe/Zurich:20250312T103000
DTEND;TZID=Europe/Zurich:20250312T104500
SUMMARY:Begrüßung Dr. Habeck [ZUKUNFT HANDWERK]
DESCRIPTION:https://connect.zukunfthandwerk.com/de/e/begruessung-dr-habeck.
 64132\n\nBegrüßungsansprache - Dr. Robert Habeck\, Vizekanzler und Bunde
 sminister für Wirtschaft und Klimaschutz\, Schirmherr für ZUKUNFT HANDWE
 RK 2025
END:VEVENT
END:VCALENDAR