BEGIN:VCALENDAR
VERSION:2.0
PRODID:spatie/icalendar-generator
NAME:Fachkräftemangel: Ausrede oder Realität? [ZUKUNFT HANDWERK]
X-WR-CALNAME:Fachkräftemangel: Ausrede oder Realität? [ZUKUNFT HANDWERK]
BEGIN:VTIMEZONE
TZID:Europe/Zurich
BEGIN:STANDARD
DTSTART:20241027T030000
TZOFFSETFROM:+0200
TZOFFSETTO:+0100
END:STANDARD
BEGIN:DAYLIGHT
DTSTART:20250330T020000
TZOFFSETFROM:+0100
TZOFFSETTO:+0200
END:DAYLIGHT
END:VTIMEZONE
BEGIN:VTIMEZONE
TZID:UTC
BEGIN:STANDARD
DTSTART:20250724T131816
TZOFFSETFROM:+0000
TZOFFSETTO:+0000
END:STANDARD
END:VTIMEZONE
BEGIN:VEVENT
UID:69e6279819bdb
DTSTAMP:20260420T131816Z
DTSTART;TZID=Europe/Zurich:20250312T140000
DTEND;TZID=Europe/Zurich:20250312T144500
SUMMARY:Fachkräftemangel: Ausrede oder Realität? [ZUKUNFT HANDWERK]
DESCRIPTION:https://connect.zukunfthandwerk.com/de/e/fachkraeftemangel-ausr
 ede-oder-realitaet.64135\n\nWie du als Handwerker aktiv Mitarbeiter gewinn
 st\, statt nur zu klagen.
END:VEVENT
END:VCALENDAR