BEGIN:VCALENDAR
VERSION:2.0
PRODID:spatie/icalendar-generator
NAME:Inklusionspreis „Inklusion im Handwerk. Die bundesweite Auszeichnung
  für Vorzeigebetriebe im Handwerk.“ [ZUKUNFT HANDWERK]
X-WR-CALNAME:Inklusionspreis „Inklusion im Handwerk. Die bundesweite Ausz
 eichnung für Vorzeigebetriebe im Handwerk.“ [ZUKUNFT HANDWERK]
BEGIN:VTIMEZONE
TZID:Europe/Zurich
BEGIN:STANDARD
DTSTART:20241027T030000
TZOFFSETFROM:+0200
TZOFFSETTO:+0100
END:STANDARD
BEGIN:DAYLIGHT
DTSTART:20250330T020000
TZOFFSETFROM:+0100
TZOFFSETTO:+0200
END:DAYLIGHT
END:VTIMEZONE
BEGIN:VTIMEZONE
TZID:UTC
BEGIN:STANDARD
DTSTART:20250724T134050
TZOFFSETFROM:+0000
TZOFFSETTO:+0000
END:STANDARD
END:VTIMEZONE
BEGIN:VEVENT
UID:69e62ce22f5c8
DTSTAMP:20260420T134050Z
DTSTART;TZID=Europe/Zurich:20250312T144500
DTEND;TZID=Europe/Zurich:20250312T151500
SUMMARY:Inklusionspreis „Inklusion im Handwerk. Die bundesweite Auszeichn
 ung für Vorzeigebetriebe im Handwerk.“ [ZUKUNFT HANDWERK]
DESCRIPTION:https://connect.zukunfthandwerk.com/de/e/inklusionspreis-inklus
 ion-im-handwerk-die-bundesweite-auszeichnung-fuer-vorzeigebetriebe-im-hand
 werk.64136\n\n
END:VEVENT
END:VCALENDAR