BEGIN:VCALENDAR
VERSION:2.0
PRODID:spatie/icalendar-generator
NAME:Es ist 5 vor 12: Warum Handwerksbetriebe jetzt auf Social Media setzen
  müssen [ZUKUNFT HANDWERK]
X-WR-CALNAME:Es ist 5 vor 12: Warum Handwerksbetriebe jetzt auf Social Medi
 a setzen müssen [ZUKUNFT HANDWERK]
BEGIN:VTIMEZONE
TZID:Europe/Zurich
BEGIN:STANDARD
DTSTART:20241027T030000
TZOFFSETFROM:+0200
TZOFFSETTO:+0100
END:STANDARD
BEGIN:DAYLIGHT
DTSTART:20250330T020000
TZOFFSETFROM:+0100
TZOFFSETTO:+0200
END:DAYLIGHT
END:VTIMEZONE
BEGIN:VTIMEZONE
TZID:UTC
BEGIN:STANDARD
DTSTART:20250724T132313
TZOFFSETFROM:+0000
TZOFFSETTO:+0000
END:STANDARD
END:VTIMEZONE
BEGIN:VEVENT
UID:69e628c101191
DTSTAMP:20260420T132313Z
DTSTART;TZID=Europe/Zurich:20250312T151500
DTEND;TZID=Europe/Zurich:20250312T154500
SUMMARY:Es ist 5 vor 12: Warum Handwerksbetriebe jetzt auf Social Media set
 zen müssen [ZUKUNFT HANDWERK]
DESCRIPTION:https://connect.zukunfthandwerk.com/de/e/es-ist-5-vor-12-warum-
 handwerksbetriebe-jetzt-auf-social-media-setzen-muessen.64137\n\n
END:VEVENT
END:VCALENDAR