BEGIN:VCALENDAR
VERSION:2.0
PRODID:spatie/icalendar-generator
NAME:\"Kopf hoch! Mental gesund und stark in herausfordernden Zeiten“ [ZU
 KUNFT HANDWERK]
X-WR-CALNAME:\"Kopf hoch! Mental gesund und stark in herausfordernden Zeite
 n“ [ZUKUNFT HANDWERK]
BEGIN:VTIMEZONE
TZID:Europe/Zurich
BEGIN:STANDARD
DTSTART:20241027T030000
TZOFFSETFROM:+0200
TZOFFSETTO:+0100
END:STANDARD
BEGIN:DAYLIGHT
DTSTART:20250330T020000
TZOFFSETFROM:+0100
TZOFFSETTO:+0200
END:DAYLIGHT
END:VTIMEZONE
BEGIN:VTIMEZONE
TZID:UTC
BEGIN:STANDARD
DTSTART:20250724T120600
TZOFFSETFROM:+0000
TZOFFSETTO:+0000
END:STANDARD
END:VTIMEZONE
BEGIN:VEVENT
UID:69e616a8b5567
DTSTAMP:20260420T120600Z
DTSTART;TZID=Europe/Zurich:20250312T154500
DTEND;TZID=Europe/Zurich:20250312T163000
SUMMARY:\"Kopf hoch! Mental gesund und stark in herausfordernden Zeiten“ 
 [ZUKUNFT HANDWERK]
DESCRIPTION:https://connect.zukunfthandwerk.com/de/e/kopf-hoch-mental-gesun
 d-und-stark-in-herausfordernden-zeiten.64138\n\n
END:VEVENT
END:VCALENDAR