BEGIN:VCALENDAR
VERSION:2.0
PRODID:spatie/icalendar-generator
NAME:RED BULL: Frozen Lake Wake. Epische Wakeboard-Action auf schwedischem 
 Eis [ZUKUNFT HANDWERK]
X-WR-CALNAME:RED BULL: Frozen Lake Wake. Epische Wakeboard-Action auf schwe
 dischem Eis [ZUKUNFT HANDWERK]
BEGIN:VTIMEZONE
TZID:Europe/Zurich
BEGIN:STANDARD
DTSTART:20241027T030000
TZOFFSETFROM:+0200
TZOFFSETTO:+0100
END:STANDARD
BEGIN:DAYLIGHT
DTSTART:20250330T020000
TZOFFSETFROM:+0100
TZOFFSETTO:+0200
END:DAYLIGHT
END:VTIMEZONE
BEGIN:VTIMEZONE
TZID:UTC
BEGIN:STANDARD
DTSTART:20250724T171009
TZOFFSETFROM:+0000
TZOFFSETTO:+0000
END:STANDARD
END:VTIMEZONE
BEGIN:VEVENT
UID:69e65df130563
DTSTAMP:20260420T171009Z
DTSTART;TZID=Europe/Zurich:20250312T163000
DTEND;TZID=Europe/Zurich:20250312T170000
SUMMARY:RED BULL: Frozen Lake Wake. Epische Wakeboard-Action auf schwedisch
 em Eis [ZUKUNFT HANDWERK]
DESCRIPTION:https://connect.zukunfthandwerk.com/de/e/red-bull-frozen-lake-w
 ake-epische-wakeboard-action-auf-schwedischem-eis.64140\n\n
END:VEVENT
END:VCALENDAR