BEGIN:VCALENDAR
VERSION:2.0
PRODID:spatie/icalendar-generator
NAME:Wolfram Kons: Schlusswort und Ausblick auf Tag 2 [ZUKUNFT HANDWERK]
X-WR-CALNAME:Wolfram Kons: Schlusswort und Ausblick auf Tag 2 [ZUKUNFT HAND
 WERK]
BEGIN:VTIMEZONE
TZID:Europe/Zurich
BEGIN:STANDARD
DTSTART:20241027T030000
TZOFFSETFROM:+0200
TZOFFSETTO:+0100
END:STANDARD
BEGIN:DAYLIGHT
DTSTART:20250330T020000
TZOFFSETFROM:+0100
TZOFFSETTO:+0200
END:DAYLIGHT
END:VTIMEZONE
BEGIN:VTIMEZONE
TZID:UTC
BEGIN:STANDARD
DTSTART:20250724T152258
TZOFFSETFROM:+0000
TZOFFSETTO:+0000
END:STANDARD
END:VTIMEZONE
BEGIN:VEVENT
UID:69e644d2d7116
DTSTAMP:20260420T152258Z
DTSTART;TZID=Europe/Zurich:20250312T170000
DTEND;TZID=Europe/Zurich:20250312T170500
SUMMARY:Wolfram Kons: Schlusswort und Ausblick auf Tag 2 [ZUKUNFT HANDWERK]
DESCRIPTION:https://connect.zukunfthandwerk.com/de/e/wolfram-kons-schlusswo
 rt-und-ausblick-auf-tag-2.64143\n\n
END:VEVENT
END:VCALENDAR