BEGIN:VCALENDAR
VERSION:2.0
PRODID:spatie/icalendar-generator
NAME:Keynote powered by IKK classic: Handwerk in Bestform [ZUKUNFT HANDWERK
 ]
X-WR-CALNAME:Keynote powered by IKK classic: Handwerk in Bestform [ZUKUNFT 
 HANDWERK]
BEGIN:VTIMEZONE
TZID:Europe/Zurich
BEGIN:STANDARD
DTSTART:20241027T030000
TZOFFSETFROM:+0200
TZOFFSETTO:+0100
END:STANDARD
BEGIN:DAYLIGHT
DTSTART:20250330T020000
TZOFFSETFROM:+0100
TZOFFSETTO:+0200
END:DAYLIGHT
END:VTIMEZONE
BEGIN:VTIMEZONE
TZID:UTC
BEGIN:STANDARD
DTSTART:20250724T152118
TZOFFSETFROM:+0000
TZOFFSETTO:+0000
END:STANDARD
END:VTIMEZONE
BEGIN:VEVENT
UID:69e6446ed5f8c
DTSTAMP:20260420T152118Z
DTSTART;TZID=Europe/Zurich:20250313T103000
DTEND;TZID=Europe/Zurich:20250313T110000
SUMMARY:Keynote powered by IKK classic: Handwerk in Bestform [ZUKUNFT HANDW
 ERK]
DESCRIPTION:https://connect.zukunfthandwerk.com/de/e/keynote-powered-by-ikk
 -classic-handwerk-in-bestform.64144\n\nSo bleiben Beschäftigte dauerhaft 
 gesund und leistungsfähig.
END:VEVENT
END:VCALENDAR