BEGIN:VCALENDAR
VERSION:2.0
PRODID:spatie/icalendar-generator
NAME:Zukunft sichern: Betriebsübergabe erfolgreich meistern. [ZUKUNFT HAND
 WERK]
X-WR-CALNAME:Zukunft sichern: Betriebsübergabe erfolgreich meistern. [ZUKU
 NFT HANDWERK]
BEGIN:VTIMEZONE
TZID:Europe/Zurich
BEGIN:STANDARD
DTSTART:20241027T030000
TZOFFSETFROM:+0200
TZOFFSETTO:+0100
END:STANDARD
BEGIN:DAYLIGHT
DTSTART:20250330T020000
TZOFFSETFROM:+0100
TZOFFSETTO:+0200
END:DAYLIGHT
END:VTIMEZONE
BEGIN:VTIMEZONE
TZID:UTC
BEGIN:STANDARD
DTSTART:20250724T152056
TZOFFSETFROM:+0000
TZOFFSETTO:+0000
END:STANDARD
END:VTIMEZONE
BEGIN:VEVENT
UID:69e6445871c69
DTSTAMP:20260420T152056Z
DTSTART;TZID=Europe/Zurich:20250313T110000
DTEND;TZID=Europe/Zurich:20250313T120000
SUMMARY:Zukunft sichern: Betriebsübergabe erfolgreich meistern. [ZUKUNFT H
 ANDWERK]
DESCRIPTION:https://connect.zukunfthandwerk.com/de/e/zukunft-sichern-betrie
 bsuebergabe-erfolgreich-meistern.64145\n\n
END:VEVENT
END:VCALENDAR