BEGIN:VCALENDAR
VERSION:2.0
PRODID:spatie/icalendar-generator
NAME:Gen Z vs Boomer [ZUKUNFT HANDWERK]
X-WR-CALNAME:Gen Z vs Boomer [ZUKUNFT HANDWERK]
BEGIN:VTIMEZONE
TZID:Europe/Zurich
BEGIN:STANDARD
DTSTART:20241027T030000
TZOFFSETFROM:+0200
TZOFFSETTO:+0100
END:STANDARD
BEGIN:DAYLIGHT
DTSTART:20250330T020000
TZOFFSETFROM:+0100
TZOFFSETTO:+0200
END:DAYLIGHT
END:VTIMEZONE
BEGIN:VTIMEZONE
TZID:UTC
BEGIN:STANDARD
DTSTART:20250724T152105
TZOFFSETFROM:+0000
TZOFFSETTO:+0000
END:STANDARD
END:VTIMEZONE
BEGIN:VEVENT
UID:69e644616b73e
DTSTAMP:20260420T152105Z
DTSTART;TZID=Europe/Zurich:20250313T120000
DTEND;TZID=Europe/Zurich:20250313T125000
SUMMARY:Gen Z vs Boomer [ZUKUNFT HANDWERK]
DESCRIPTION:https://connect.zukunfthandwerk.com/de/e/gen-z-vs-boomer.64146\
 n\nWas sind die heutigen Herausforderungen der Betriebe\, Nachwuchs zu bek
 ommen\, ihn zu halten und vor allem ihn für das Handwerk zu begeistern?
END:VEVENT
END:VCALENDAR