BEGIN:VCALENDAR
VERSION:2.0
PRODID:spatie/icalendar-generator
NAME:\"Der Pitch im Handwerk\" - unterstützt durch Würth [ZUKUNFT HANDWER
 K]
X-WR-CALNAME:\"Der Pitch im Handwerk\" - unterstützt durch Würth [ZUKUNFT
  HANDWERK]
BEGIN:VTIMEZONE
TZID:Europe/Zurich
BEGIN:STANDARD
DTSTART:20241027T030000
TZOFFSETFROM:+0200
TZOFFSETTO:+0100
END:STANDARD
BEGIN:DAYLIGHT
DTSTART:20250330T020000
TZOFFSETFROM:+0100
TZOFFSETTO:+0200
END:DAYLIGHT
END:VTIMEZONE
BEGIN:VTIMEZONE
TZID:UTC
BEGIN:STANDARD
DTSTART:20250724T120900
TZOFFSETFROM:+0000
TZOFFSETTO:+0000
END:STANDARD
END:VTIMEZONE
BEGIN:VEVENT
UID:69e6175c23d75
DTSTAMP:20260420T120900Z
DTSTART;TZID=Europe/Zurich:20250313T170500
DTEND;TZID=Europe/Zurich:20250313T181500
SUMMARY:\"Der Pitch im Handwerk\" - unterstützt durch Würth [ZUKUNFT HAND
 WERK]
DESCRIPTION:https://connect.zukunfthandwerk.com/de/e/der-pitch-im-handwerk-
 unterstuetzt-durch-wuerth.64150\n\n
END:VEVENT
END:VCALENDAR