BEGIN:VCALENDAR
VERSION:2.0
PRODID:spatie/icalendar-generator
NAME:Nachhaltigkeit im Handwerk: Pflicht oder Kür? [ZUKUNFT HANDWERK]
X-WR-CALNAME:Nachhaltigkeit im Handwerk: Pflicht oder Kür? [ZUKUNFT HANDWE
 RK]
BEGIN:VTIMEZONE
TZID:Europe/Zurich
BEGIN:STANDARD
DTSTART:20241027T030000
TZOFFSETFROM:+0200
TZOFFSETTO:+0100
END:STANDARD
BEGIN:DAYLIGHT
DTSTART:20250330T020000
TZOFFSETFROM:+0100
TZOFFSETTO:+0200
END:DAYLIGHT
END:VTIMEZONE
BEGIN:VTIMEZONE
TZID:UTC
BEGIN:STANDARD
DTSTART:20250724T152123
TZOFFSETFROM:+0000
TZOFFSETTO:+0000
END:STANDARD
END:VTIMEZONE
BEGIN:VEVENT
UID:69e64473d4ba1
DTSTAMP:20260420T152123Z
DTSTART;TZID=Europe/Zurich:20250313T093000
DTEND;TZID=Europe/Zurich:20250313T095000
SUMMARY:Nachhaltigkeit im Handwerk: Pflicht oder Kür? [ZUKUNFT HANDWERK]
DESCRIPTION:https://connect.zukunfthandwerk.com/de/e/nachhaltigkeit-im-hand
 werk-pflicht-oder-kuer.64165\n\n
END:VEVENT
END:VCALENDAR