BEGIN:VCALENDAR
VERSION:2.0
PRODID:spatie/icalendar-generator
NAME:Energiewende und Nachhaltigkeit konkret [ZUKUNFT HANDWERK]
X-WR-CALNAME:Energiewende und Nachhaltigkeit konkret [ZUKUNFT HANDWERK]
BEGIN:VTIMEZONE
TZID:Europe/Zurich
BEGIN:STANDARD
DTSTART:20241027T030000
TZOFFSETFROM:+0200
TZOFFSETTO:+0100
END:STANDARD
BEGIN:DAYLIGHT
DTSTART:20250330T020000
TZOFFSETFROM:+0100
TZOFFSETTO:+0200
END:DAYLIGHT
END:VTIMEZONE
BEGIN:VTIMEZONE
TZID:UTC
BEGIN:STANDARD
DTSTART:20250724T134055
TZOFFSETFROM:+0000
TZOFFSETTO:+0000
END:STANDARD
END:VTIMEZONE
BEGIN:VEVENT
UID:69e62ce73d281
DTSTAMP:20260420T134055Z
DTSTART;TZID=Europe/Zurich:20250313T095000
DTEND;TZID=Europe/Zurich:20250313T101500
SUMMARY:Energiewende und Nachhaltigkeit konkret [ZUKUNFT HANDWERK]
DESCRIPTION:https://connect.zukunfthandwerk.com/de/e/energiewende-und-nachh
 altigkeit-konkret.64166\n\nDas E-Tool für Handwerksbetriebe und weitere U
 nterstützungsleistungen.
END:VEVENT
END:VCALENDAR