BEGIN:VCALENDAR
VERSION:2.0
PRODID:spatie/icalendar-generator
NAME:Startschuss für die neue Online-Digitalisierungswerkstatt 2025/26 \"K
 ünstliche Intelligenz - neuer Problemlöser im Handwe [ZUKUNFT HANDWERK]
X-WR-CALNAME:Startschuss für die neue Online-Digitalisierungswerkstatt 202
 5/26 \"Künstliche Intelligenz - neuer Problemlöser im Handwe [ZUKUNFT HA
 NDWERK]
BEGIN:VTIMEZONE
TZID:Europe/Zurich
BEGIN:STANDARD
DTSTART:20241027T030000
TZOFFSETFROM:+0200
TZOFFSETTO:+0100
END:STANDARD
BEGIN:DAYLIGHT
DTSTART:20250330T020000
TZOFFSETFROM:+0100
TZOFFSETTO:+0200
END:DAYLIGHT
END:VTIMEZONE
BEGIN:VTIMEZONE
TZID:UTC
BEGIN:STANDARD
DTSTART:20250724T120905
TZOFFSETFROM:+0000
TZOFFSETTO:+0000
END:STANDARD
END:VTIMEZONE
BEGIN:VEVENT
UID:69e61761223f4
DTSTAMP:20260420T120905Z
DTSTART;TZID=Europe/Zurich:20250313T123000
DTEND;TZID=Europe/Zurich:20250313T124500
SUMMARY:Startschuss für die neue Online-Digitalisierungswerkstatt 2025/26 
 \"Künstliche Intelligenz - neuer Problemlöser im Handwe [ZUKUNFT HANDWER
 K]
DESCRIPTION:https://connect.zukunfthandwerk.com/de/e/startschuss-fuer-die-n
 eue-online-digitalisierungswerkstatt-2025-26-kuenstliche-intelligenz-neuer
 -problemloeser-im-handwe.64170\n\nKünstliche Intelligenz - neuer Probleml
 öser im Handwerk. Erfahren Sie kurz und knapp\, was die Betriebe hier erw
 artet.
END:VEVENT
END:VCALENDAR