BEGIN:VCALENDAR
VERSION:2.0
PRODID:spatie/icalendar-generator
NAME:KI-Werkstatt Koblenz: Vom Denken zum Machen – KI in Handwerksunterne
 hmen [ZUKUNFT HANDWERK]
X-WR-CALNAME:KI-Werkstatt Koblenz: Vom Denken zum Machen – KI in Handwerk
 sunternehmen [ZUKUNFT HANDWERK]
BEGIN:VTIMEZONE
TZID:Europe/Zurich
BEGIN:STANDARD
DTSTART:20241027T030000
TZOFFSETFROM:+0200
TZOFFSETTO:+0100
END:STANDARD
BEGIN:DAYLIGHT
DTSTART:20250330T020000
TZOFFSETFROM:+0100
TZOFFSETTO:+0200
END:DAYLIGHT
END:VTIMEZONE
BEGIN:VTIMEZONE
TZID:UTC
BEGIN:STANDARD
DTSTART:20250724T134143
TZOFFSETFROM:+0000
TZOFFSETTO:+0000
END:STANDARD
END:VTIMEZONE
BEGIN:VEVENT
UID:69e62d177b77b
DTSTAMP:20260420T134143Z
DTSTART;TZID=Europe/Zurich:20250313T130000
DTEND;TZID=Europe/Zurich:20250313T131500
SUMMARY:KI-Werkstatt Koblenz: Vom Denken zum Machen – KI in Handwerksunte
 rnehmen [ZUKUNFT HANDWERK]
DESCRIPTION:https://connect.zukunfthandwerk.com/de/e/ki-werkstatt-koblenz-v
 om-denken-zum-machen-ki-in-handwerksunternehmen.64173\n\n
END:VEVENT
END:VCALENDAR