BEGIN:VCALENDAR
VERSION:2.0
PRODID:spatie/icalendar-generator
NAME:Generativ und kreativ – KI zwischen Ideenfindung und Faktenprüfung 
 [ZUKUNFT HANDWERK]
X-WR-CALNAME:Generativ und kreativ – KI zwischen Ideenfindung und Faktenp
 rüfung [ZUKUNFT HANDWERK]
BEGIN:VTIMEZONE
TZID:Europe/Zurich
BEGIN:STANDARD
DTSTART:20241027T030000
TZOFFSETFROM:+0200
TZOFFSETTO:+0100
END:STANDARD
BEGIN:DAYLIGHT
DTSTART:20250330T020000
TZOFFSETFROM:+0100
TZOFFSETTO:+0200
END:DAYLIGHT
END:VTIMEZONE
BEGIN:VTIMEZONE
TZID:UTC
BEGIN:STANDARD
DTSTART:20250726T123043
TZOFFSETFROM:+0000
TZOFFSETTO:+0000
END:STANDARD
END:VTIMEZONE
BEGIN:VEVENT
UID:69e8bf73716e3
DTSTAMP:20260422T123043Z
DTSTART;TZID=Europe/Zurich:20250313T133500
DTEND;TZID=Europe/Zurich:20250313T140000
SUMMARY:Generativ und kreativ – KI zwischen Ideenfindung und Faktenprüfu
 ng [ZUKUNFT HANDWERK]
DESCRIPTION:https://connect.zukunfthandwerk.com/de/e/generativ-und-kreativ-
 ki-zwischen-ideenfindung-und-faktenpruefung.64176\n\n
END:VEVENT
END:VCALENDAR