BEGIN:VCALENDAR
VERSION:2.0
PRODID:spatie/icalendar-generator
NAME:Cyberrisiken\, die unsichtbare Betriebsbedrohung. Wie der Hacker tickt
  – und wie Sie sich schützen [ZUKUNFT HANDWERK]
X-WR-CALNAME:Cyberrisiken\, die unsichtbare Betriebsbedrohung. Wie der Hack
 er tickt – und wie Sie sich schützen [ZUKUNFT HANDWERK]
BEGIN:VTIMEZONE
TZID:Europe/Zurich
BEGIN:STANDARD
DTSTART:20241027T030000
TZOFFSETFROM:+0200
TZOFFSETTO:+0100
END:STANDARD
BEGIN:DAYLIGHT
DTSTART:20250330T020000
TZOFFSETFROM:+0100
TZOFFSETTO:+0200
END:DAYLIGHT
END:VTIMEZONE
BEGIN:VTIMEZONE
TZID:UTC
BEGIN:STANDARD
DTSTART:20250724T171245
TZOFFSETFROM:+0000
TZOFFSETTO:+0000
END:STANDARD
END:VTIMEZONE
BEGIN:VEVENT
UID:69e65e8d2054c
DTSTAMP:20260420T171245Z
DTSTART;TZID=Europe/Zurich:20250313T143000
DTEND;TZID=Europe/Zurich:20250313T150000
SUMMARY:Cyberrisiken\, die unsichtbare Betriebsbedrohung. Wie der Hacker ti
 ckt – und wie Sie sich schützen [ZUKUNFT HANDWERK]
DESCRIPTION:https://connect.zukunfthandwerk.com/de/e/cyberrisiken-die-unsic
 htbare-betriebsbedrohung-wie-der-hacker-tickt-und-wie-sie-sich-schuetzen.6
 4178\n\n
END:VEVENT
END:VCALENDAR