BEGIN:VCALENDAR
VERSION:2.0
PRODID:spatie/icalendar-generator
NAME:Digitale Tools und Lösungen zum medienbruchfreien digitalen Workflow 
 im E-Handwerk. Theorie und Praxis. [ZUKUNFT HANDWERK]
X-WR-CALNAME:Digitale Tools und Lösungen zum medienbruchfreien digitalen W
 orkflow im E-Handwerk. Theorie und Praxis. [ZUKUNFT HANDWERK]
BEGIN:VTIMEZONE
TZID:Europe/Zurich
BEGIN:STANDARD
DTSTART:20241027T030000
TZOFFSETFROM:+0200
TZOFFSETTO:+0100
END:STANDARD
BEGIN:DAYLIGHT
DTSTART:20250330T020000
TZOFFSETFROM:+0100
TZOFFSETTO:+0200
END:DAYLIGHT
END:VTIMEZONE
BEGIN:VTIMEZONE
TZID:UTC
BEGIN:STANDARD
DTSTART:20250724T134231
TZOFFSETFROM:+0000
TZOFFSETTO:+0000
END:STANDARD
END:VTIMEZONE
BEGIN:VEVENT
UID:69e62d47e2b01
DTSTAMP:20260420T134231Z
DTSTART;TZID=Europe/Zurich:20250313T150000
DTEND;TZID=Europe/Zurich:20250313T153000
SUMMARY:Digitale Tools und Lösungen zum medienbruchfreien digitalen Workfl
 ow im E-Handwerk. Theorie und Praxis. [ZUKUNFT HANDWERK]
DESCRIPTION:https://connect.zukunfthandwerk.com/de/e/digitale-tools-und-loe
 sungen-zum-medienbruchfreien-digitalen-workflow-im-e-handwerk-theorie-und-
 praxis.64179\n\n
END:VEVENT
END:VCALENDAR