BEGIN:VCALENDAR
VERSION:2.0
PRODID:spatie/icalendar-generator
NAME:Wie international ist eigentlich das bayerische Handwerk? [ZUKUNFT HAN
 DWERK]
X-WR-CALNAME:Wie international ist eigentlich das bayerische Handwerk? [ZUK
 UNFT HANDWERK]
BEGIN:VTIMEZONE
TZID:Europe/Zurich
BEGIN:STANDARD
DTSTART:20241027T030000
TZOFFSETFROM:+0200
TZOFFSETTO:+0100
END:STANDARD
BEGIN:DAYLIGHT
DTSTART:20250330T020000
TZOFFSETFROM:+0100
TZOFFSETTO:+0200
END:DAYLIGHT
END:VTIMEZONE
BEGIN:VTIMEZONE
TZID:UTC
BEGIN:STANDARD
DTSTART:20250724T114959
TZOFFSETFROM:+0000
TZOFFSETTO:+0000
END:STANDARD
END:VTIMEZONE
BEGIN:VEVENT
UID:69e612e7bfa61
DTSTAMP:20260420T114959Z
DTSTART;TZID=Europe/Zurich:20250313T153000
DTEND;TZID=Europe/Zurich:20250313T160000
SUMMARY:Wie international ist eigentlich das bayerische Handwerk? [ZUKUNFT 
 HANDWERK]
DESCRIPTION:https://connect.zukunfthandwerk.com/de/e/wie-international-ist-
 eigentlich-das-bayerische-handwerk.64180\n\n
END:VEVENT
END:VCALENDAR