BEGIN:VCALENDAR
VERSION:2.0
PRODID:spatie/icalendar-generator
NAME:Chaos oder Kontrolle? Vom Zettelchaos zur Effizienzmaschine [ZUKUNFT H
 ANDWERK]
X-WR-CALNAME:Chaos oder Kontrolle? Vom Zettelchaos zur Effizienzmaschine [Z
 UKUNFT HANDWERK]
BEGIN:VTIMEZONE
TZID:Europe/Zurich
BEGIN:STANDARD
DTSTART:20241027T030000
TZOFFSETFROM:+0200
TZOFFSETTO:+0100
END:STANDARD
BEGIN:DAYLIGHT
DTSTART:20250330T020000
TZOFFSETFROM:+0100
TZOFFSETTO:+0200
END:DAYLIGHT
END:VTIMEZONE
BEGIN:VTIMEZONE
TZID:UTC
BEGIN:STANDARD
DTSTART:20250724T134206
TZOFFSETFROM:+0000
TZOFFSETTO:+0000
END:STANDARD
END:VTIMEZONE
BEGIN:VEVENT
UID:69e62d2e79d3f
DTSTAMP:20260420T134206Z
DTSTART;TZID=Europe/Zurich:20250313T164500
DTEND;TZID=Europe/Zurich:20250313T171500
SUMMARY:Chaos oder Kontrolle? Vom Zettelchaos zur Effizienzmaschine [ZUKUNF
 T HANDWERK]
DESCRIPTION:https://connect.zukunfthandwerk.com/de/e/chaos-oder-kontrolle-v
 om-zettelchaos-zur-effizienzmaschine.64182\n\nWie digitale Prozesse unsere
 n Betrieb produktiver machen und Kosten senken.
END:VEVENT
END:VCALENDAR