BEGIN:VCALENDAR
VERSION:2.0
PRODID:spatie/icalendar-generator
NAME:Ehrenamt im Wandel - von alt bewährt zu jung engagiert [ZUKUNFT HANDW
 ERK]
X-WR-CALNAME:Ehrenamt im Wandel - von alt bewährt zu jung engagiert [ZUKUN
 FT HANDWERK]
BEGIN:VTIMEZONE
TZID:Europe/Zurich
BEGIN:STANDARD
DTSTART:20241027T030000
TZOFFSETFROM:+0200
TZOFFSETTO:+0100
END:STANDARD
BEGIN:DAYLIGHT
DTSTART:20250330T020000
TZOFFSETFROM:+0100
TZOFFSETTO:+0200
END:DAYLIGHT
END:VTIMEZONE
BEGIN:VTIMEZONE
TZID:UTC
BEGIN:STANDARD
DTSTART:20250724T085023
TZOFFSETFROM:+0000
TZOFFSETTO:+0000
END:STANDARD
END:VTIMEZONE
BEGIN:VEVENT
UID:69e5e8cf64b54
DTSTAMP:20260420T085023Z
DTSTART;TZID=Europe/Zurich:20250313T171500
DTEND;TZID=Europe/Zurich:20250313T174500
SUMMARY:Ehrenamt im Wandel - von alt bewährt zu jung engagiert [ZUKUNFT HA
 NDWERK]
DESCRIPTION:https://connect.zukunfthandwerk.com/de/e/ehrenamt-im-wandel-von
 -alt-bewaehrt-zu-jung-engagiert.64183\n\n
END:VEVENT
END:VCALENDAR