BEGIN:VCALENDAR
VERSION:2.0
PRODID:spatie/icalendar-generator
NAME:Netzwerkparty ZUKUNFT HANDWERK in Halle B0 [ZUKUNFT HANDWERK]
X-WR-CALNAME:Netzwerkparty ZUKUNFT HANDWERK in Halle B0 [ZUKUNFT HANDWERK]
BEGIN:VTIMEZONE
TZID:Europe/Zurich
BEGIN:STANDARD
DTSTART:20241027T030000
TZOFFSETFROM:+0200
TZOFFSETTO:+0100
END:STANDARD
BEGIN:DAYLIGHT
DTSTART:20250330T020000
TZOFFSETFROM:+0100
TZOFFSETTO:+0200
END:DAYLIGHT
END:VTIMEZONE
BEGIN:VTIMEZONE
TZID:UTC
BEGIN:STANDARD
DTSTART:20250724T195047
TZOFFSETFROM:+0000
TZOFFSETTO:+0000
END:STANDARD
END:VTIMEZONE
BEGIN:VEVENT
UID:69e683971e51c
DTSTAMP:20260420T195047Z
DTSTART;TZID=Europe/Zurich:20250313T183000
DTEND;TZID=Europe/Zurich:20250313T230000
SUMMARY:Netzwerkparty ZUKUNFT HANDWERK in Halle B0 [ZUKUNFT HANDWERK]
DESCRIPTION:https://connect.zukunfthandwerk.com/de/e/netzwerkparty-zukunft-
 handwerk-in-halle-b0.64185\n\n
END:VEVENT
END:VCALENDAR