BEGIN:VCALENDAR
VERSION:2.0
PRODID:spatie/icalendar-generator
NAME:Im Rahmen der Eröffung: Intro Motto ZUKUNFT HANDWERK 2026 [ZUKUNFT HA
 NDWERK 2026]
X-WR-CALNAME:Im Rahmen der Eröffung: Intro Motto ZUKUNFT HANDWERK 2026 [ZU
 KUNFT HANDWERK 2026]
BEGIN:VTIMEZONE
TZID:Europe/Zurich
BEGIN:STANDARD
DTSTART:20251026T030000
TZOFFSETFROM:+0200
TZOFFSETTO:+0100
END:STANDARD
BEGIN:DAYLIGHT
DTSTART:20260329T020000
TZOFFSETFROM:+0100
TZOFFSETTO:+0200
END:DAYLIGHT
END:VTIMEZONE
BEGIN:VTIMEZONE
TZID:UTC
BEGIN:STANDARD
DTSTART:20250724T134221
TZOFFSETFROM:+0000
TZOFFSETTO:+0000
END:STANDARD
END:VTIMEZONE
BEGIN:VEVENT
UID:69e62d3de3500
DTSTAMP:20260420T134221Z
DTSTART;TZID=Europe/Zurich:20260304T100000
DTEND;TZID=Europe/Zurich:20260304T101000
SUMMARY:Im Rahmen der Eröffung: Intro Motto ZUKUNFT HANDWERK 2026 [ZUKUNFT
  HANDWERK 2026]
DESCRIPTION:https://connect.zukunfthandwerk.com/de/e/im-rahmen-der-eroeffun
 g-intro-motto-zukunft-handwerk-2026.71705\n\n\"Stolz\, im Handwerk zu gest
 alten.\" Zu diesem Motto steigen Moderatorin Petra Bindl und ZDH-Präsiden
 t Jörg Dittrich in das Programm ein.
LOCATION:ICM\, Saal 14b
END:VEVENT
END:VCALENDAR