BEGIN:VCALENDAR
VERSION:2.0
PRODID:spatie/icalendar-generator
NAME:Im Rahmen der Eröffnung: Begrüßung [ZUKUNFT HANDWERK 2026]
X-WR-CALNAME:Im Rahmen der Eröffnung: Begrüßung [ZUKUNFT HANDWERK 2026]
BEGIN:VTIMEZONE
TZID:Europe/Zurich
BEGIN:STANDARD
DTSTART:20251026T030000
TZOFFSETFROM:+0200
TZOFFSETTO:+0100
END:STANDARD
BEGIN:DAYLIGHT
DTSTART:20260329T020000
TZOFFSETFROM:+0100
TZOFFSETTO:+0200
END:DAYLIGHT
END:VTIMEZONE
BEGIN:VTIMEZONE
TZID:UTC
BEGIN:STANDARD
DTSTART:20250724T102841
TZOFFSETFROM:+0000
TZOFFSETTO:+0000
END:STANDARD
END:VTIMEZONE
BEGIN:VEVENT
UID:69e5ffd97cd90
DTSTAMP:20260420T102841Z
DTSTART;TZID=Europe/Zurich:20260304T101000
DTEND;TZID=Europe/Zurich:20260304T102000
SUMMARY:Im Rahmen der Eröffnung: Begrüßung [ZUKUNFT HANDWERK 2026]
DESCRIPTION:https://connect.zukunfthandwerk.com/de/e/im-rahmen-der-eroeffnu
 ng-begruessung.71711\n\nFranz Xaver Peteranderl\, Präsident der Handwerks
 kammer München und Oberbayern und Aufsichtsratsvorsitzender der GHM Gesel
 lschaft für Handwerksmessen mbH begrüßt alle Gäste\, Teilnehmer\, Auss
 teller und Mitglieder von Handwerksorganisationen\, sowie die Handwerkspol
 itik.
LOCATION:ICM\, Saal 14b
END:VEVENT
END:VCALENDAR