BEGIN:VCALENDAR
VERSION:2.0
PRODID:spatie/icalendar-generator
NAME:Im Rahmen der Eröffnung: Begrüßung zu ZUKUNFT HANDWERK und zur Inte
 rnationalen Handwerksmesse 2026 [ZUKUNFT HANDWERK 2026]
X-WR-CALNAME:Im Rahmen der Eröffnung: Begrüßung zu ZUKUNFT HANDWERK und 
 zur Internationalen Handwerksmesse 2026 [ZUKUNFT HANDWERK 2026]
BEGIN:VTIMEZONE
TZID:Europe/Zurich
BEGIN:STANDARD
DTSTART:20251026T030000
TZOFFSETFROM:+0200
TZOFFSETTO:+0100
END:STANDARD
BEGIN:DAYLIGHT
DTSTART:20260329T020000
TZOFFSETFROM:+0100
TZOFFSETTO:+0200
END:DAYLIGHT
END:VTIMEZONE
BEGIN:VTIMEZONE
TZID:UTC
BEGIN:STANDARD
DTSTART:20250724T104357
TZOFFSETFROM:+0000
TZOFFSETTO:+0000
END:STANDARD
END:VTIMEZONE
BEGIN:VEVENT
UID:69e6036dea093
DTSTAMP:20260420T104357Z
DTSTART;TZID=Europe/Zurich:20260304T102000
DTEND;TZID=Europe/Zurich:20260304T103000
SUMMARY:Im Rahmen der Eröffnung: Begrüßung zu ZUKUNFT HANDWERK und zur I
 nternationalen Handwerksmesse 2026 [ZUKUNFT HANDWERK 2026]
DESCRIPTION:https://connect.zukunfthandwerk.com/de/e/im-rahmen-der-eroeffnu
 ng-begruessung-zu-zukunft-handwerk-und-zur-internationalen-handwerksmesse-
 2026.71713\n\nIm März verwandelt sich München wieder in das Zentrum des 
 Handwerks.
LOCATION:ICM\, Saal 14b
END:VEVENT
END:VCALENDAR