BEGIN:VCALENDAR
VERSION:2.0
PRODID:spatie/icalendar-generator
NAME:Keynote: KI\, die Jahrhundert-Chance [ZUKUNFT HANDWERK 2026]
X-WR-CALNAME:Keynote: KI\, die Jahrhundert-Chance [ZUKUNFT HANDWERK 2026]
BEGIN:VTIMEZONE
TZID:Europe/Zurich
BEGIN:STANDARD
DTSTART:20251026T030000
TZOFFSETFROM:+0200
TZOFFSETTO:+0100
END:STANDARD
BEGIN:DAYLIGHT
DTSTART:20260329T020000
TZOFFSETFROM:+0100
TZOFFSETTO:+0200
END:DAYLIGHT
END:VTIMEZONE
BEGIN:VTIMEZONE
TZID:UTC
BEGIN:STANDARD
DTSTART:20250724T102743
TZOFFSETFROM:+0000
TZOFFSETTO:+0000
END:STANDARD
END:VTIMEZONE
BEGIN:VEVENT
UID:69e5ff9f3d2d1
DTSTAMP:20260420T102743Z
DTSTART;TZID=Europe/Zurich:20260305T100500
DTEND;TZID=Europe/Zurich:20260305T105500
SUMMARY:Keynote: KI\, die Jahrhundert-Chance [ZUKUNFT HANDWERK 2026]
DESCRIPTION:https://connect.zukunfthandwerk.com/de/e/keynote-ki-die-jahrhun
 dert-chance.71715\n\nKünstliche Intelligenz wird die Welt für immer ver
 ändern. Was bedeutet das für Unternehmen\, Gesellschaft und Alltag? 
LOCATION:ICM\, Saal 14b
END:VEVENT
END:VCALENDAR