BEGIN:VCALENDAR
VERSION:2.0
PRODID:spatie/icalendar-generator
NAME:Im Rahmen der Eröffnung: Begrüßungsansprache [ZUKUNFT HANDWERK 2026
 ]
X-WR-CALNAME:Im Rahmen der Eröffnung: Begrüßungsansprache [ZUKUNFT HANDW
 ERK 2026]
BEGIN:VTIMEZONE
TZID:Europe/Zurich
BEGIN:STANDARD
DTSTART:20251026T030000
TZOFFSETFROM:+0200
TZOFFSETTO:+0100
END:STANDARD
BEGIN:DAYLIGHT
DTSTART:20260329T020000
TZOFFSETFROM:+0100
TZOFFSETTO:+0200
END:DAYLIGHT
END:VTIMEZONE
BEGIN:VTIMEZONE
TZID:UTC
BEGIN:STANDARD
DTSTART:20250724T134226
TZOFFSETFROM:+0000
TZOFFSETTO:+0000
END:STANDARD
END:VTIMEZONE
BEGIN:VEVENT
UID:69e62d42e4108
DTSTAMP:20260420T134226Z
DTSTART;TZID=Europe/Zurich:20260304T103000
DTEND;TZID=Europe/Zurich:20260304T104500
SUMMARY:Im Rahmen der Eröffnung: Begrüßungsansprache [ZUKUNFT HANDWERK 2
 026]
DESCRIPTION:https://connect.zukunfthandwerk.com/de/e/im-rahmen-der-eroeffnu
 ng-begruessungsansprache.71716\n\nWirtschaftsministerin und Schirmherrin v
 on ZUKUNFT HANDWERK 2026 begrüßt alle Teilnehmer und Teilnehmerinnen der
  Eröffnung. Ein Austauschformat zwischen dem Handwerk und der Politik.
LOCATION:ICM\, Saal 14b
END:VEVENT
END:VCALENDAR