BEGIN:VCALENDAR
VERSION:2.0
PRODID:spatie/icalendar-generator
NAME:Im Rahmen der Eröffnung: Politische Podiumsdiskussion [ZUKUNFT HANDWE
 RK 2026]
X-WR-CALNAME:Im Rahmen der Eröffnung: Politische Podiumsdiskussion [ZUKUNF
 T HANDWERK 2026]
BEGIN:VTIMEZONE
TZID:Europe/Zurich
BEGIN:STANDARD
DTSTART:20251026T030000
TZOFFSETFROM:+0200
TZOFFSETTO:+0100
END:STANDARD
BEGIN:DAYLIGHT
DTSTART:20260329T020000
TZOFFSETFROM:+0100
TZOFFSETTO:+0200
END:DAYLIGHT
END:VTIMEZONE
BEGIN:VTIMEZONE
TZID:UTC
BEGIN:STANDARD
DTSTART:20250724T102831
TZOFFSETFROM:+0000
TZOFFSETTO:+0000
END:STANDARD
END:VTIMEZONE
BEGIN:VEVENT
UID:69e5ffcf7d2dc
DTSTAMP:20260420T102831Z
DTSTART;TZID=Europe/Zurich:20260304T104500
DTEND;TZID=Europe/Zurich:20260304T111500
SUMMARY:Im Rahmen der Eröffnung: Politische Podiumsdiskussion [ZUKUNFT HAN
 DWERK 2026]
DESCRIPTION:https://connect.zukunfthandwerk.com/de/e/im-rahmen-der-eroeffnu
 ng-politische-podiumsdiskussion.71717\n\n„Wir machen Karriere mit Gefüh
 l“
LOCATION:ICM\, Saal 14b
END:VEVENT
END:VCALENDAR