BEGIN:VCALENDAR
VERSION:2.0
PRODID:spatie/icalendar-generator
NAME:Unternehmensführung: Nachfolge und Übergabe [ZUKUNFT HANDWERK 2026]
X-WR-CALNAME:Unternehmensführung: Nachfolge und Übergabe [ZUKUNFT HANDWER
 K 2026]
BEGIN:VTIMEZONE
TZID:Europe/Zurich
BEGIN:STANDARD
DTSTART:20251026T030000
TZOFFSETFROM:+0200
TZOFFSETTO:+0100
END:STANDARD
BEGIN:DAYLIGHT
DTSTART:20260329T020000
TZOFFSETFROM:+0100
TZOFFSETTO:+0200
END:DAYLIGHT
END:VTIMEZONE
BEGIN:VTIMEZONE
TZID:UTC
BEGIN:STANDARD
DTSTART:20250724T101005
TZOFFSETFROM:+0000
TZOFFSETTO:+0000
END:STANDARD
END:VTIMEZONE
BEGIN:VEVENT
UID:69e5fb7d02f2f
DTSTAMP:20260420T101005Z
DTSTART;TZID=Europe/Zurich:20260305T110000
DTEND;TZID=Europe/Zurich:20260305T115000
SUMMARY:Unternehmensführung: Nachfolge und Übergabe [ZUKUNFT HANDWERK 202
 6]
DESCRIPTION:https://connect.zukunfthandwerk.com/de/e/unternehmensfuehrung-n
 achfolge-und-uebergabe.71718\n\nPodiumsdiskussion: Die Zukunft des Handwer
 ks entscheidet sich nicht nur in der Werkstatt\, sondern auch in der Chefe
 tage. Wie gelingt es\, Betriebe erfolgreich in die nächste Generation zu 
 führen?
LOCATION:ICM\, Saal 14b
END:VEVENT
END:VCALENDAR