BEGIN:VCALENDAR
VERSION:2.0
PRODID:spatie/icalendar-generator
NAME:Personal: Fachkräftesicherung und Talente [ZUKUNFT HANDWERK 2026]
X-WR-CALNAME:Personal: Fachkräftesicherung und Talente [ZUKUNFT HANDWERK 2
 026]
BEGIN:VTIMEZONE
TZID:Europe/Zurich
BEGIN:STANDARD
DTSTART:20251026T030000
TZOFFSETFROM:+0200
TZOFFSETTO:+0100
END:STANDARD
BEGIN:DAYLIGHT
DTSTART:20260329T020000
TZOFFSETFROM:+0100
TZOFFSETTO:+0200
END:DAYLIGHT
END:VTIMEZONE
BEGIN:VTIMEZONE
TZID:UTC
BEGIN:STANDARD
DTSTART:20250724T101022
TZOFFSETFROM:+0000
TZOFFSETTO:+0000
END:STANDARD
END:VTIMEZONE
BEGIN:VEVENT
UID:69e5fb8e08997
DTSTAMP:20260420T101022Z
DTSTART;TZID=Europe/Zurich:20260305T115000
DTEND;TZID=Europe/Zurich:20260305T123500
SUMMARY:Personal: Fachkräftesicherung und Talente [ZUKUNFT HANDWERK 2026]
DESCRIPTION:https://connect.zukunfthandwerk.com/de/e/personal-fachkraeftesi
 cherung-und-talente.71719\n\nPodiumsdiskussion: Der Erfolg im Handwerk ste
 ht und fällt mit den Menschen\, die ihn möglich machen. Doch wie gewinnt
  und bindet man heute die richtigen Fachkräfte? Und wie lassen sich junge
  Talente für das Handwerk begeistern?
LOCATION:ICM\, Saal 14b
END:VEVENT
END:VCALENDAR