BEGIN:VCALENDAR
VERSION:2.0
PRODID:spatie/icalendar-generator
NAME:Mit Leidenschaft aus dem Sport zur Meisterschaft im Handwerk. [ZUKUNFT
  HANDWERK 2026]
X-WR-CALNAME:Mit Leidenschaft aus dem Sport zur Meisterschaft im Handwerk. 
 [ZUKUNFT HANDWERK 2026]
BEGIN:VTIMEZONE
TZID:Europe/Zurich
BEGIN:STANDARD
DTSTART:20251026T030000
TZOFFSETFROM:+0200
TZOFFSETTO:+0100
END:STANDARD
BEGIN:DAYLIGHT
DTSTART:20260329T020000
TZOFFSETFROM:+0100
TZOFFSETTO:+0200
END:DAYLIGHT
END:VTIMEZONE
BEGIN:VTIMEZONE
TZID:UTC
BEGIN:STANDARD
DTSTART:20250724T152114
TZOFFSETFROM:+0000
TZOFFSETTO:+0000
END:STANDARD
END:VTIMEZONE
BEGIN:VEVENT
UID:69e6446a40f2b
DTSTAMP:20260420T152114Z
DTSTART;TZID=Europe/Zurich:20260305T150000
DTEND;TZID=Europe/Zurich:20260305T154500
SUMMARY:Mit Leidenschaft aus dem Sport zur Meisterschaft im Handwerk. [ZUKU
 NFT HANDWERK 2026]
DESCRIPTION:https://connect.zukunfthandwerk.com/de/e/mit-leidenschaft-aus-d
 em-sport-zur-meisterschaft-im-handwerk.71722\n\nInspirierende Impulse aus 
 zwei Erfolgssphären\, verbunden durch ein gemeinsames Ziel: Höchstes Niv
 eau in jedem Detail.
LOCATION:ICM\, Saal 14b
END:VEVENT
END:VCALENDAR