BEGIN:VCALENDAR
VERSION:2.0
PRODID:spatie/icalendar-generator
NAME:\"Der Pitch im Handwerk\" dieser Wettbewerb rückt persönliche Erfol
 gsgeschichten ins Rampenlicht. [ZUKUNFT HANDWERK 2026]
X-WR-CALNAME:\"Der Pitch im Handwerk\" dieser Wettbewerb rückt persönlic
 he Erfolgsgeschichten ins Rampenlicht. [ZUKUNFT HANDWERK 2026]
BEGIN:VTIMEZONE
TZID:Europe/Zurich
BEGIN:STANDARD
DTSTART:20251026T030000
TZOFFSETFROM:+0200
TZOFFSETTO:+0100
END:STANDARD
BEGIN:DAYLIGHT
DTSTART:20260329T020000
TZOFFSETFROM:+0100
TZOFFSETTO:+0200
END:DAYLIGHT
END:VTIMEZONE
BEGIN:VTIMEZONE
TZID:UTC
BEGIN:STANDARD
DTSTART:20250724T100955
TZOFFSETFROM:+0000
TZOFFSETTO:+0000
END:STANDARD
END:VTIMEZONE
BEGIN:VEVENT
UID:69e5fb733930b
DTSTAMP:20260420T100955Z
DTSTART;TZID=Europe/Zurich:20260304T154500
DTEND;TZID=Europe/Zurich:20260304T170000
SUMMARY:\"Der Pitch im Handwerk\" dieser Wettbewerb rückt persönliche Er
 folgsgeschichten ins Rampenlicht. [ZUKUNFT HANDWERK 2026]
DESCRIPTION:https://connect.zukunfthandwerk.com/de/e/der-pitch-im-handwerk-
 dieser-wettbewerb-rueckt-persoenliche-erfolgsgeschichten-ins-rampenlicht.7
 1776\n\nBeim Pitch werden kreative Ideen und neue Herangehensweisen aus de
 m Handwerksalltag präsentiert\, die zum Erfolg im Betrieb beigetragen hab
 en. Sechs Finalisten werden ihre Ideen live auf der Bühne vorstellen.
LOCATION:ICM\, Saal 14b
END:VEVENT
END:VCALENDAR