BEGIN:VCALENDAR
VERSION:2.0
PRODID:spatie/icalendar-generator
NAME:Netzwerk Party ZUKUNFT HANDWERK [ZUKUNFT HANDWERK 2026]
X-WR-CALNAME:Netzwerk Party ZUKUNFT HANDWERK [ZUKUNFT HANDWERK 2026]
BEGIN:VTIMEZONE
TZID:Europe/Zurich
BEGIN:STANDARD
DTSTART:20251026T030000
TZOFFSETFROM:+0200
TZOFFSETTO:+0100
END:STANDARD
BEGIN:DAYLIGHT
DTSTART:20260329T020000
TZOFFSETFROM:+0100
TZOFFSETTO:+0200
END:DAYLIGHT
END:VTIMEZONE
BEGIN:VTIMEZONE
TZID:UTC
BEGIN:STANDARD
DTSTART:20250724T134219
TZOFFSETFROM:+0000
TZOFFSETTO:+0000
END:STANDARD
END:VTIMEZONE
BEGIN:VEVENT
UID:69e62d3bc57fd
DTSTAMP:20260420T134219Z
DTSTART;TZID=Europe/Zurich:20260304T180000
DTEND;TZID=Europe/Zurich:20260304T230000
SUMMARY:Netzwerk Party ZUKUNFT HANDWERK [ZUKUNFT HANDWERK 2026]
DESCRIPTION:https://connect.zukunfthandwerk.com/de/e/netzwerk-party-zukunft
 -handwerk.72529\n\nBegegnung verbindet! Lasst uns nach einem inspirierende
 n ersten Kongresstag gemeinsam einen Abend voller Begegnung\, Austausch un
 d guter Stimmung erleben.Bei guten Beats\, leckerem Essen und coolen Drink
 s lassen wir den Tag ausklingen – und tanken neue Energie für Tag 2.
LOCATION:Halle B0\, ICM
END:VEVENT
END:VCALENDAR