BEGIN:VCALENDAR
VERSION:2.0
PRODID:spatie/icalendar-generator
NAME:IKK classic: Stolz\, stolzer\, Handwerk. Warum wir so zuversichtlich s
 ind und was Deutschland von uns lernen kann. [ZUKUNFT HANDWERK 2026]
X-WR-CALNAME:IKK classic: Stolz\, stolzer\, Handwerk. Warum wir so zuversic
 htlich sind und was Deutschland von uns lernen kann. [ZUKUNFT HANDWERK 202
 6]
BEGIN:VTIMEZONE
TZID:Europe/Zurich
BEGIN:STANDARD
DTSTART:20251026T030000
TZOFFSETFROM:+0200
TZOFFSETTO:+0100
END:STANDARD
BEGIN:DAYLIGHT
DTSTART:20260329T020000
TZOFFSETFROM:+0100
TZOFFSETTO:+0200
END:DAYLIGHT
END:VTIMEZONE
BEGIN:VTIMEZONE
TZID:UTC
BEGIN:STANDARD
DTSTART:20250724T085018
TZOFFSETFROM:+0000
TZOFFSETTO:+0000
END:STANDARD
END:VTIMEZONE
BEGIN:VEVENT
UID:69e5e8ca68335
DTSTAMP:20260420T085018Z
DTSTART;TZID=Europe/Zurich:20260304T150000
DTEND;TZID=Europe/Zurich:20260304T154500
SUMMARY:IKK classic: Stolz\, stolzer\, Handwerk. Warum wir so zuversichtlic
 h sind und was Deutschland von uns lernen kann. [ZUKUNFT HANDWERK 2026]
DESCRIPTION:https://connect.zukunfthandwerk.com/de/e/ikk-classic-stolz-stol
 zer-handwerk-warum-wir-so-zuversichtlich-sind-und-was-deutschland-von-uns-
 lernen-kann.74237\n\nDie IKK classic präsentiert in dieser Panel-Diskussi
 on aktuelle Einblicke aus einer exklusiven Studie: Wie stolz und zufrieden
  ist das Handwerk? Warum schauen Handwerker trotz schwierigem Umfeld zuver
 sichtlich in die Zukunft?
LOCATION:ICM\, Saal 14b
END:VEVENT
END:VCALENDAR