BEGIN:VCALENDAR
VERSION:2.0
PRODID:spatie/icalendar-generator
NAME:Inklusionspreis „Inklusion im Handwerk\" [ZUKUNFT HANDWERK 2026]
X-WR-CALNAME:Inklusionspreis „Inklusion im Handwerk\" [ZUKUNFT HANDWERK 2
 026]
BEGIN:VTIMEZONE
TZID:Europe/Zurich
BEGIN:STANDARD
DTSTART:20251026T030000
TZOFFSETFROM:+0200
TZOFFSETTO:+0100
END:STANDARD
BEGIN:DAYLIGHT
DTSTART:20260329T020000
TZOFFSETFROM:+0100
TZOFFSETTO:+0200
END:DAYLIGHT
END:VTIMEZONE
BEGIN:VTIMEZONE
TZID:UTC
BEGIN:STANDARD
DTSTART:20250724T125120
TZOFFSETFROM:+0000
TZOFFSETTO:+0000
END:STANDARD
END:VTIMEZONE
BEGIN:VEVENT
UID:69e621485e21d
DTSTAMP:20260420T125120Z
DTSTART;TZID=Europe/Zurich:20260304T143000
DTEND;TZID=Europe/Zurich:20260304T150000
SUMMARY:Inklusionspreis „Inklusion im Handwerk\" [ZUKUNFT HANDWERK 2026]
DESCRIPTION:https://connect.zukunfthandwerk.com/de/e/inklusionspreis-inklus
 ion-im-handwerk.74238\n\n\"Die bundesweite Auszeichnung für Vorzeigebetri
 ebe im Handwerk.\" Dieser Preis würdigt Handwerksbetriebe\, die sich in h
 erausragender Weise für die Integration von Menschen mit Behinderung eins
 etzen.
LOCATION:ICM\, Saal 14b
END:VEVENT
END:VCALENDAR