BEGIN:VCALENDAR
VERSION:2.0
PRODID:spatie/icalendar-generator
NAME:Der neue Azubi heißt KI – und arbeitet in jedem Gewerk [ZUKUNFT HAN
 DWERK 2026]
X-WR-CALNAME:Der neue Azubi heißt KI – und arbeitet in jedem Gewerk [ZUK
 UNFT HANDWERK 2026]
BEGIN:VTIMEZONE
TZID:Europe/Zurich
BEGIN:STANDARD
DTSTART:20251026T030000
TZOFFSETFROM:+0200
TZOFFSETTO:+0100
END:STANDARD
BEGIN:DAYLIGHT
DTSTART:20260329T020000
TZOFFSETFROM:+0100
TZOFFSETTO:+0200
END:DAYLIGHT
END:VTIMEZONE
BEGIN:VTIMEZONE
TZID:UTC
BEGIN:STANDARD
DTSTART:20250724T101032
TZOFFSETFROM:+0000
TZOFFSETTO:+0000
END:STANDARD
END:VTIMEZONE
BEGIN:VEVENT
UID:69e5fb982ff9c
DTSTAMP:20260420T101032Z
DTSTART;TZID=Europe/Zurich:20260304T140000
DTEND;TZID=Europe/Zurich:20260304T143000
SUMMARY:Der neue Azubi heißt KI – und arbeitet in jedem Gewerk [ZUKUNFT 
 HANDWERK 2026]
DESCRIPTION:https://connect.zukunfthandwerk.com/de/e/der-neue-azubi-heisst-
 ki-und-arbeitet-in-jedem-gewerk.74861\n\nKünstliche Intelligenz ist im Ha
 ndwerk längst keine Science-Fiction mehr – sie schreibt Angebote\, doku
 mentiert Baustellen\, plant Ressourcen und hält dem Team den Rücken frei
 . In dieser Keynote geht es nicht um Tools\, sondern um Wirkung:
LOCATION:ICM\, Saal 14b
END:VEVENT
END:VCALENDAR