BEGIN:VCALENDAR
VERSION:2.0
PRODID:spatie/icalendar-generator
NAME:KI-Assistenten im Handwerk – kleine Helfer\, große Wirkung [ZUKUNFT
  HANDWERK 2026]
X-WR-CALNAME:KI-Assistenten im Handwerk – kleine Helfer\, große Wirkung 
 [ZUKUNFT HANDWERK 2026]
BEGIN:VTIMEZONE
TZID:Europe/Zurich
BEGIN:STANDARD
DTSTART:20251026T030000
TZOFFSETFROM:+0200
TZOFFSETTO:+0100
END:STANDARD
BEGIN:DAYLIGHT
DTSTART:20260329T020000
TZOFFSETFROM:+0100
TZOFFSETTO:+0200
END:DAYLIGHT
END:VTIMEZONE
BEGIN:VTIMEZONE
TZID:UTC
BEGIN:STANDARD
DTSTART:20250724T100916
TZOFFSETFROM:+0000
TZOFFSETTO:+0000
END:STANDARD
END:VTIMEZONE
BEGIN:VEVENT
UID:69e5fb4c22d4a
DTSTAMP:20260420T100916Z
DTSTART;TZID=Europe/Zurich:20260305T110000
DTEND;TZID=Europe/Zurich:20260305T120000
SUMMARY:KI-Assistenten im Handwerk – kleine Helfer\, große Wirkung [ZUKU
 NFT HANDWERK 2026]
DESCRIPTION:https://connect.zukunfthandwerk.com/de/e/ki-assistenten-im-hand
 werk-kleine-helfer-grosse-wirkung.76058\n\nIn diesem Praxis-Workshop zeige
 n wir live\, wie kleine KI-Assistenten ganz konkrete Aufgaben im Handwerks
 betrieb übernehmen: vom Angebotsentwurf über Baustellenprotokolle bis zu
 r Vorbereitung von Service-Mails.
LOCATION:Workshop Area\, ICM\, EG Foyer
END:VEVENT
END:VCALENDAR