BEGIN:VCALENDAR
VERSION:2.0
PRODID:spatie/icalendar-generator
NAME:Der BGM-Effekt – macht Betriebe attraktiv [ZUKUNFT HANDWERK 2026]
X-WR-CALNAME:Der BGM-Effekt – macht Betriebe attraktiv [ZUKUNFT HANDWERK 
 2026]
BEGIN:VTIMEZONE
TZID:Europe/Zurich
BEGIN:STANDARD
DTSTART:20251026T030000
TZOFFSETFROM:+0200
TZOFFSETTO:+0100
END:STANDARD
BEGIN:DAYLIGHT
DTSTART:20260329T020000
TZOFFSETFROM:+0100
TZOFFSETTO:+0200
END:DAYLIGHT
END:VTIMEZONE
BEGIN:VTIMEZONE
TZID:UTC
BEGIN:STANDARD
DTSTART:20250724T134151
TZOFFSETFROM:+0000
TZOFFSETTO:+0000
END:STANDARD
END:VTIMEZONE
BEGIN:VEVENT
UID:69e62d1f7798c
DTSTAMP:20260420T134151Z
DTSTART;TZID=Europe/Zurich:20260305T110000
DTEND;TZID=Europe/Zurich:20260305T113000
SUMMARY:Der BGM-Effekt – macht Betriebe attraktiv [ZUKUNFT HANDWERK 2026]
DESCRIPTION:https://connect.zukunfthandwerk.com/de/e/der-bgm-effekt-macht-b
 etriebe-attraktiv.76351\n\nDas Handwerk hat aktuell viele Herausforderunge
 n zu bewältigen\, wie z. B. den Fachkräftemangel. In dem Vortrag geht es
  um die Frage „Was macht Handwerksbetriebe attraktiv?“
LOCATION:Halle B0\, ICM
END:VEVENT
END:VCALENDAR