BEGIN:VCALENDAR
VERSION:2.0
PRODID:spatie/icalendar-generator
NAME:Quick oder Vision? KI im Einsatz! [ZUKUNFT HANDWERK 2026]
X-WR-CALNAME:Quick oder Vision? KI im Einsatz! [ZUKUNFT HANDWERK 2026]
BEGIN:VTIMEZONE
TZID:Europe/Zurich
BEGIN:STANDARD
DTSTART:20251026T030000
TZOFFSETFROM:+0200
TZOFFSETTO:+0100
END:STANDARD
BEGIN:DAYLIGHT
DTSTART:20260329T020000
TZOFFSETFROM:+0100
TZOFFSETTO:+0200
END:DAYLIGHT
END:VTIMEZONE
BEGIN:VTIMEZONE
TZID:UTC
BEGIN:STANDARD
DTSTART:20250724T101932
TZOFFSETFROM:+0000
TZOFFSETTO:+0000
END:STANDARD
END:VTIMEZONE
BEGIN:VEVENT
UID:69e5fdb47e425
DTSTAMP:20260420T101932Z
DTSTART;TZID=Europe/Zurich:20260305T143000
DTEND;TZID=Europe/Zurich:20260305T150000
SUMMARY:Quick oder Vision? KI im Einsatz! [ZUKUNFT HANDWERK 2026]
DESCRIPTION:https://connect.zukunfthandwerk.com/de/e/quick-oder-vision-ki-i
 m-einsatz.76753\n\nEin Impuls beim Thema KI ist: einfach machen! Doch es g
 ibt auch Unsicherheit durch unklaren Mehrwert oder gescheiterte Versuche. 
 Wie sieht die optimale Strategie aus\, mit der sich Handwerksbetriebe KI n
 ähern und sie nachhaltig nutzen können? Welchen Beitrag leisten wissensc
 haftliche Einrichtungen?
LOCATION:Halle B0\, ICM
END:VEVENT
END:VCALENDAR