BEGIN:VCALENDAR
VERSION:2.0
PRODID:spatie/icalendar-generator
NAME:Zwischen Innovation und Regulierung – Der EU AI Act [ZUKUNFT HANDWER
 K 2026]
X-WR-CALNAME:Zwischen Innovation und Regulierung – Der EU AI Act [ZUKUNFT
  HANDWERK 2026]
BEGIN:VTIMEZONE
TZID:Europe/Zurich
BEGIN:STANDARD
DTSTART:20251026T030000
TZOFFSETFROM:+0200
TZOFFSETTO:+0100
END:STANDARD
BEGIN:DAYLIGHT
DTSTART:20260329T020000
TZOFFSETFROM:+0100
TZOFFSETTO:+0200
END:DAYLIGHT
END:VTIMEZONE
BEGIN:VTIMEZONE
TZID:UTC
BEGIN:STANDARD
DTSTART:20250724T104658
TZOFFSETFROM:+0000
TZOFFSETTO:+0000
END:STANDARD
END:VTIMEZONE
BEGIN:VEVENT
UID:69e604223fffe
DTSTAMP:20260420T104658Z
DTSTART;TZID=Europe/Zurich:20260305T153000
DTEND;TZID=Europe/Zurich:20260305T163000
SUMMARY:Zwischen Innovation und Regulierung – Der EU AI Act [ZUKUNFT HAND
 WERK 2026]
DESCRIPTION:https://connect.zukunfthandwerk.com/de/e/zwischen-innovation-un
 d-regulierung-der-eu-ai-act.76755\n\nKI eröffnet neue Möglichkeiten für
  die überbetriebliche Ausbildung – zugleich setzt der EU AI Act klare R
 ahmenbedingungen. Wie passt das zusammen? Am Beispiel von KIgÜBA zeigt de
 r Vortrag\, wie KI praxisnah eingesetzt werden kann und welche Fragen zu T
 ransparenz und Verantwortung dabei zu klären sind
LOCATION:Siganl Iduna Bühne
END:VEVENT
END:VCALENDAR