BEGIN:VCALENDAR
VERSION:2.0
PRODID:spatie/icalendar-generator
NAME:Zukunfts-Kompass Handwerk – Wir navigieren Sie durch Ihren Nachhalti
 gkeitsbericht! [ZUKUNFT HANDWERK 2026]
X-WR-CALNAME:Zukunfts-Kompass Handwerk – Wir navigieren Sie durch Ihren N
 achhaltigkeitsbericht! [ZUKUNFT HANDWERK 2026]
BEGIN:VTIMEZONE
TZID:Europe/Zurich
BEGIN:STANDARD
DTSTART:20251026T030000
TZOFFSETFROM:+0200
TZOFFSETTO:+0100
END:STANDARD
BEGIN:DAYLIGHT
DTSTART:20260329T020000
TZOFFSETFROM:+0100
TZOFFSETTO:+0200
END:DAYLIGHT
END:VTIMEZONE
BEGIN:VTIMEZONE
TZID:UTC
BEGIN:STANDARD
DTSTART:20250724T102757
TZOFFSETFROM:+0000
TZOFFSETTO:+0000
END:STANDARD
END:VTIMEZONE
BEGIN:VEVENT
UID:69e5ffade8fe2
DTSTAMP:20260420T102757Z
DTSTART;TZID=Europe/Zurich:20260305T100000
DTEND;TZID=Europe/Zurich:20260305T103000
SUMMARY:Zukunfts-Kompass Handwerk – Wir navigieren Sie durch Ihren Nachha
 ltigkeitsbericht! [ZUKUNFT HANDWERK 2026]
DESCRIPTION:https://connect.zukunfthandwerk.com/de/e/zukunfts-kompass-handw
 erk-wir-navigieren-sie-durch-ihren-nachhaltigkeitsbericht.76786\n\nDokumen
 tierte Nachhaltigkeitsaktivitäten werden heutzutage zu einem wirtschaftli
 chen Faktor. Wie erstellen Betriebe effizient einen Nachhaltigkeitsbericht
 ?
LOCATION:ICM\, Halle B0 (SIGNAL IDUNA Forum)
END:VEVENT
END:VCALENDAR