BEGIN:VCALENDAR
VERSION:2.0
PRODID:spatie/icalendar-generator
NAME:Digitale Ideenschmiede für das Handwerk der Zukunft: Mittelstand-Digi
 tal Zentrum Handwerk [ZUKUNFT HANDWERK 2026]
X-WR-CALNAME:Digitale Ideenschmiede für das Handwerk der Zukunft: Mittelst
 and-Digital Zentrum Handwerk [ZUKUNFT HANDWERK 2026]
BEGIN:VTIMEZONE
TZID:Europe/Zurich
BEGIN:STANDARD
DTSTART:20251026T030000
TZOFFSETFROM:+0200
TZOFFSETTO:+0100
END:STANDARD
BEGIN:DAYLIGHT
DTSTART:20260329T020000
TZOFFSETFROM:+0100
TZOFFSETTO:+0200
END:DAYLIGHT
END:VTIMEZONE
BEGIN:VTIMEZONE
TZID:UTC
BEGIN:STANDARD
DTSTART:20250724T134246
TZOFFSETFROM:+0000
TZOFFSETTO:+0000
END:STANDARD
END:VTIMEZONE
BEGIN:VEVENT
UID:69e62d56e458e
DTSTAMP:20260420T134246Z
DTSTART;TZID=Europe/Zurich:20260304T123000
DTEND;TZID=Europe/Zurich:20260304T134500
SUMMARY:Digitale Ideenschmiede für das Handwerk der Zukunft: Mittelstand-D
 igital Zentrum Handwerk [ZUKUNFT HANDWERK 2026]
DESCRIPTION:https://connect.zukunfthandwerk.com/de/e/digitale-ideenschmiede
 -fuer-das-handwerk-der-zukunft-mittelstand-digital-zentrum-handwerk.77169\
 n\nVon der ersten Idee bis zur Umsetzung – Einblicke in fünf Jahre Proj
 ekte\, Lösungen und Weiterbildung. Wir sind die bundesweite Anlaufstelle 
 für Digitalisierung und KI im Handwerk.
LOCATION:Halle B0\, ICM
END:VEVENT
END:VCALENDAR