BEGIN:VCALENDAR
VERSION:2.0
PRODID:spatie/icalendar-generator
NAME:Innovation Pitch Handwerk [ZUKUNFT HANDWERK 2026]
X-WR-CALNAME:Innovation Pitch Handwerk [ZUKUNFT HANDWERK 2026]
BEGIN:VTIMEZONE
TZID:Europe/Zurich
BEGIN:STANDARD
DTSTART:20251026T030000
TZOFFSETFROM:+0200
TZOFFSETTO:+0100
END:STANDARD
BEGIN:DAYLIGHT
DTSTART:20260329T020000
TZOFFSETFROM:+0100
TZOFFSETTO:+0200
END:DAYLIGHT
END:VTIMEZONE
BEGIN:VTIMEZONE
TZID:UTC
BEGIN:STANDARD
DTSTART:20250724T132318
TZOFFSETFROM:+0000
TZOFFSETTO:+0000
END:STANDARD
END:VTIMEZONE
BEGIN:VEVENT
UID:69e628c604274
DTSTAMP:20260420T132318Z
DTSTART;TZID=Europe/Zurich:20260304T150000
DTEND;TZID=Europe/Zurich:20260304T153000
SUMMARY:Innovation Pitch Handwerk [ZUKUNFT HANDWERK 2026]
DESCRIPTION:https://connect.zukunfthandwerk.com/de/e/innovation-pitch-handw
 erk.77170\n\nHerausragende Praxislösungen aus dem Handwerk für das Handw
 erk. Wie kann Wiederverwendung und Recycling von Farbeimern im Alltag wirk
 lich funktionieren?
LOCATION:Halle B0\, ICM
END:VEVENT
END:VCALENDAR