BEGIN:VCALENDAR
VERSION:2.0
PRODID:spatie/icalendar-generator
NAME:KI im Handwerk – was funktioniert wirklich? [ZUKUNFT HANDWERK 2026]
X-WR-CALNAME:KI im Handwerk – was funktioniert wirklich? [ZUKUNFT HANDWER
 K 2026]
BEGIN:VTIMEZONE
TZID:Europe/Zurich
BEGIN:STANDARD
DTSTART:20251026T030000
TZOFFSETFROM:+0200
TZOFFSETTO:+0100
END:STANDARD
BEGIN:DAYLIGHT
DTSTART:20260329T020000
TZOFFSETFROM:+0100
TZOFFSETTO:+0200
END:DAYLIGHT
END:VTIMEZONE
BEGIN:VTIMEZONE
TZID:UTC
BEGIN:STANDARD
DTSTART:20250724T152100
TZOFFSETFROM:+0000
TZOFFSETTO:+0000
END:STANDARD
END:VTIMEZONE
BEGIN:VEVENT
UID:69e6445c6a1ac
DTSTAMP:20260420T152100Z
DTSTART;TZID=Europe/Zurich:20260304T153000
DTEND;TZID=Europe/Zurich:20260304T160000
SUMMARY:KI im Handwerk – was funktioniert wirklich? [ZUKUNFT HANDWERK 202
 6]
DESCRIPTION:https://connect.zukunfthandwerk.com/de/e/ki-im-handwerk-was-fun
 ktioniert-wirklich.77173\n\nDigitalisierungswerkstatt KI: 1.300 Teilnehmen
 de\, 30 Online-Formate\, sechs Werkbänke. Wie kann KI den Büroalltag erl
 eichtern\, die Angebotserstellung beschleunigen oder die Kundenkommunikati
 on verbessern?
LOCATION:Halle B0\, ICM
END:VEVENT
END:VCALENDAR