BEGIN:VCALENDAR
VERSION:2.0
PRODID:spatie/icalendar-generator
NAME:Founders Fight Night [ZUKUNFT HANDWERK 2026]
X-WR-CALNAME:Founders Fight Night [ZUKUNFT HANDWERK 2026]
BEGIN:VTIMEZONE
TZID:Europe/Zurich
BEGIN:STANDARD
DTSTART:20251026T030000
TZOFFSETFROM:+0200
TZOFFSETTO:+0100
END:STANDARD
BEGIN:DAYLIGHT
DTSTART:20260329T020000
TZOFFSETFROM:+0100
TZOFFSETTO:+0200
END:DAYLIGHT
END:VTIMEZONE
BEGIN:VTIMEZONE
TZID:UTC
BEGIN:STANDARD
DTSTART:20250724T085013
TZOFFSETFROM:+0000
TZOFFSETTO:+0000
END:STANDARD
END:VTIMEZONE
BEGIN:VEVENT
UID:69e5e8c567bae
DTSTAMP:20260420T085013Z
DTSTART;TZID=Europe/Zurich:20260305T160000
DTEND;TZID=Europe/Zurich:20260305T170000
SUMMARY:Founders Fight Night [ZUKUNFT HANDWERK 2026]
DESCRIPTION:https://connect.zukunfthandwerk.com/de/e/founders-fight-night.7
 7176\n\nDas Pitch-Duell der ZUKUNFT HANDWERK: Die Founders Fight Night ist
  ein kurzes\, unterhaltsames Pitch-Duell\, in dem zwei Startups nacheinand
 er ihren Ansatz präsentieren und direktes Feedback bekommen.
LOCATION:Halle B0\, ICM
END:VEVENT
END:VCALENDAR