BEGIN:VCALENDAR
VERSION:2.0
PRODID:spatie/icalendar-generator
NAME:Wahl Miss & Mister Handwerk [ZUKUNFT HANDWERK 2026]
X-WR-CALNAME:Wahl Miss & Mister Handwerk [ZUKUNFT HANDWERK 2026]
BEGIN:VTIMEZONE
TZID:Europe/Zurich
BEGIN:STANDARD
DTSTART:20251026T030000
TZOFFSETFROM:+0200
TZOFFSETTO:+0100
END:STANDARD
BEGIN:DAYLIGHT
DTSTART:20260329T020000
TZOFFSETFROM:+0100
TZOFFSETTO:+0200
END:DAYLIGHT
END:VTIMEZONE
BEGIN:VTIMEZONE
TZID:UTC
BEGIN:STANDARD
DTSTART:20250724T134031
TZOFFSETFROM:+0000
TZOFFSETTO:+0000
END:STANDARD
END:VTIMEZONE
BEGIN:VEVENT
UID:69e62ccf3dbdb
DTSTAMP:20260420T134031Z
DTSTART;TZID=Europe/Zurich:20260304T163000
DTEND;TZID=Europe/Zurich:20260304T174500
SUMMARY:Wahl Miss & Mister Handwerk [ZUKUNFT HANDWERK 2026]
DESCRIPTION:https://connect.zukunfthandwerk.com/de/e/wahl-miss-mister-handw
 erk.77178\n\nSeit 2010 kürt das Deutsche Handwerksblatt gemeinsam mit der
  SIGNAL IDUNA Gruppe und der IKK classic jährlich Miss & Mister Handwerk.
  Die Wahl 2026 findet am 4. März um 16:30 Uhr auf dem Signal Iduna Forum 
 in der B0 des ICM München und damit zum dritten Mal im Rahmen von ZUKUNFT
  HANDWERK statt.
LOCATION:Halle B0\, ICM
END:VEVENT
END:VCALENDAR