BEGIN:VCALENDAR
VERSION:2.0
PRODID:spatie/icalendar-generator
NAME:14. Handwerkspreis der Bürgschaftsbanken [ZUKUNFT HANDWERK 2026]
X-WR-CALNAME:14. Handwerkspreis der Bürgschaftsbanken [ZUKUNFT HANDWERK 20
 26]
BEGIN:VTIMEZONE
TZID:Europe/Zurich
BEGIN:STANDARD
DTSTART:20251026T030000
TZOFFSETFROM:+0200
TZOFFSETTO:+0100
END:STANDARD
BEGIN:DAYLIGHT
DTSTART:20260329T020000
TZOFFSETFROM:+0100
TZOFFSETTO:+0200
END:DAYLIGHT
END:VTIMEZONE
BEGIN:VTIMEZONE
TZID:UTC
BEGIN:STANDARD
DTSTART:20250724T134236
TZOFFSETFROM:+0000
TZOFFSETTO:+0000
END:STANDARD
END:VTIMEZONE
BEGIN:VEVENT
UID:69e62d4ce3222
DTSTAMP:20260420T134236Z
DTSTART;TZID=Europe/Zurich:20260304T140000
DTEND;TZID=Europe/Zurich:20260304T150000
SUMMARY:14. Handwerkspreis der Bürgschaftsbanken [ZUKUNFT HANDWERK 2026]
DESCRIPTION:https://connect.zukunfthandwerk.com/de/e/14-handwerkspreis-der-
 buergschaftsbanken.77180\n\nDie deutschen Bürgschaftsbanken zeichnen in e
 inem bundesweiten Wettbewerb seit 2012 jedes Jahr erfolgreiche Handwerksun
 ternehmen mit dem „Handwerkspreis der Bürgschaftsbanken“ aus.
LOCATION:Halle B0\, ICM
END:VEVENT
END:VCALENDAR